BEGIN:VCALENDAR
VERSION:2.0
PRODID:-//jEvents 2.0 for Joomla//EN
CALSCALE:GREGORIAN
METHOD:PUBLISH
BEGIN:VEVENT
UID:04216acc98ad7b5ca2df0a933cf5d2fc
CATEGORIES:Triatlon
CREATED:19700101T010000
SUMMARY:Silvestrovské cachtání  -  „Poslední cachtání v roce“
LOCATION:Děčín Labské nábřeží
DESCRIPTION;ENCODING=QUOTED-PRINTABLE:Termín konání:31.12.Místo akce:Děčín – Labské nábřeží Start:15.00KonceptAkc
 e otužilcůStartovné:ZDARMAŘeditel závodu:Tomáš Česnek  cesnek@email.cz\n\n 
 \nČasový harmonogram závodu:\n\nPrezentace 14.45 – 15.00 hod.\n \nKategorie
 :\n\nMuži\n\n\nŽeny\n\n\nDěti\n Startovné:\n\n ZDARMA\n Distance:\n\nDle po
 citu, chuťi a možností\n\n\n \nPrice Money:\n\nObdiv diváků\n Parkování:\n\
 nDěčín Labské nábřeží\n Pravidla závodu:\n\nDle pravidel Triade Děčín\n\n\n
  \n
CONTACT:Tomáš Česnek  cesnek@email.cz
DTSTAMP:20260425T114344Z
DTSTART:20201231T133000Z
DTEND:20201231T150000Z
SEQUENCE:0
RRULE:FREQ=YEARLY;COUNT=10;INTERVAL=1;BYYEARDAY=-1
TRANSP:OPAQUE
END:VEVENT
END:VCALENDAR