BEGIN:VCALENDAR
VERSION:2.0
PRODID:-//jEvents 2.0 for Joomla//EN
CALSCALE:GREGORIAN
METHOD:PUBLISH
BEGIN:VEVENT
UID:9ea0ac2073fab8dc04d00d4b545e4d03
CATEGORIES:Stolní tenis
CREATED:20231003T214426
SUMMARY:Stolní tenis 1. liga ženy
LOCATION:Hala SKST Děčín, ulice Práce 1824/19A
DESCRIPTION;ENCODING=QUOTED-PRINTABLE:\n\nUtkání 1 ligy žen SKST Děčín A - SKP Sever Ústí nad Labem\n\n\n\n
DTSTAMP:20260426T040519Z
DTSTART:20240106T083000Z
DTEND:20240106T103000Z
SEQUENCE:0
TRANSP:OPAQUE
END:VEVENT
END:VCALENDAR