BEGIN:VCALENDAR
VERSION:2.0
PRODID:-//jEvents 2.0 for Joomla//EN
CALSCALE:GREGORIAN
METHOD:PUBLISH
BEGIN:VEVENT
UID:6a34df442426889c703f7a2bc4824886
CATEGORIES:Stolní tenis
CREATED:20231003T215124
SUMMARY:Stolní tenis 1. liga ženy
LOCATION:Hala SKST Děčín, ulice Práce 1824/19A
DESCRIPTION;ENCODING=QUOTED-PRINTABLE:\n\nUtkání 1 ligy žen SKST Děčín A - TSM Kladno\n\n\n\n
DTSTAMP:20260425T114239Z
DTSTART:20240217T083000Z
DTEND:20240217T103000Z
SEQUENCE:0
TRANSP:OPAQUE
END:VEVENT
END:VCALENDAR