BEGIN:VCALENDAR
VERSION:2.0
PRODID:-//jEvents 2.0 for Joomla//EN
CALSCALE:GREGORIAN
METHOD:PUBLISH
BEGIN:VEVENT
UID:291b85eced0f8d8d196211c66aa316cd
CATEGORIES:Hokej
CREATED:20240108T165608
SUMMARY:Přípravka HC Děčín
LOCATION:Zimní stadion Děčín
DESCRIPTION;ENCODING=QUOTED-PRINTABLE:
DTSTAMP:20260425T153107Z
DTSTART:20240110T150000Z
DTEND:20240110T160000Z
SEQUENCE:0
TRANSP:OPAQUE
END:VEVENT
END:VCALENDAR