BEGIN:VCALENDAR
VERSION:2.0
PRODID:-//jEvents 2.0 for Joomla//EN
CALSCALE:GREGORIAN
METHOD:PUBLISH
BEGIN:VEVENT
UID:1fd1ce01f6c1cc62d8666be854b73fc6
CATEGORIES:Vodní pólo
CREATED:20240331T144558
SUMMARY:Turnaj I.liga ml.dorostenců vodního póla
LOCATION:Strakonice
DESCRIPTION;ENCODING=QUOTED-PRINTABLE:\n\nPrůběh lze sledovat https://csvp.cz/zapasy/soutez-mladsich-dorostencu\n
 \n\n1. zápas se Slavia Hradec Králové v So 11:45\n\n\n2. zápas s SK Slavia 
 Praha v So 16:45\n\n\n3. zápas s Asten Johnson Fezko Strakonice v Ne 9:00\n
DTSTAMP:20260425T114339Z
DTSTART:20240406T094500Z
DTEND:20240407T070000Z
SEQUENCE:0
TRANSP:OPAQUE
END:VEVENT
END:VCALENDAR