BEGIN:VCALENDAR
VERSION:2.0
PRODID:-//jEvents 2.0 for Joomla//EN
CALSCALE:GREGORIAN
METHOD:PUBLISH
BEGIN:VEVENT
UID:4b9eeee1fcfdc1d772a9a891f7f0d486
CATEGORIES:Vodní pólo
CREATED:20240331T145405
SUMMARY:Turnaj I.liga starších žáků vodního póla
LOCATION:Hradec Králové
DESCRIPTION;ENCODING=QUOTED-PRINTABLE:\n\nSkóre lze sledovat na https://csvp.cz/zapasy/soutez-starsich-zaku\n\n\n
 1. zápas se Slavia Hradec Králové v So 13:30\n\n\n2. zápas s Aston Johnson 
 Fezko Strakonice v So 16.50\n\n\n3. zápas s TJ Tábor v Ne v 8:50\n
DTSTAMP:20260425T114253Z
DTSTART:20240413T113000Z
DTEND:20240414T080000Z
SEQUENCE:0
TRANSP:OPAQUE
END:VEVENT
END:VCALENDAR