BEGIN:VCALENDAR
VERSION:2.0
PRODID:-//jEvents 2.0 for Joomla//EN
CALSCALE:GREGORIAN
METHOD:PUBLISH
BEGIN:VEVENT
UID:2dd3c9a2d5c503bf70d3d5fce4543c57
CATEGORIES:Triatlon
CREATED:19700101T010000
SUMMARY:Gastonův memoriál - "Plavecký marathon na 25 km Ústí nad Labem – Děčín"
LOCATION:Ústí - Děčín, Start Pod Střekovským zdymadlem  Cíl pod děčínským zámkem , s
 outok s Ploučnicí 
DESCRIPTION;ENCODING=QUOTED-PRINTABLE:Gastonův memoriál - propozice"Plavecký marathon na 25 km Ústí nad Labem – D
 ěčín"\n\n \nTermín konání:17.8.2024Místo akce:\n\nÚstí - Děčín, Start Pod S
 třekovským zdymadlem\n\n\nCíl pod děčínským zámkem , soutok s Ploučnicí \nS
 tart:11:00Koncept:Plavecký maraton  Ředitel závodu:Tomáš Česnek tomas.cesne
 k@scvk.cz\n\n \nČasový harmonogram závodu:\n\nOdjezd v 9:30  autobusu s úča
 stníky od restaurace Kocanda - Děčín, Staré Město\n\n\nPrezentace od 10:15 
 pod Střekovským zdymadlem, parkoviště u restaurace Labská Bašta\n\n\nStart 
 11:00\n Kategorie:    \n\nI. Ploutvonožci\n\n\nII. Bezploutví\n\n\n \nStart
 ovné:\n\n800 Kč převodem na účet do 1. 7. \n\n\n1000 Kč od 1. 7.\n\n\nPřihl
 áška on-line je k dispozici na těchto stránkách. Platba převodem nebo pošto
 vní poukázkou na účet číslo 2600234221/2010 Fio banka.\n Distance:\n\n25 km
  plavecký maraton v řece Labi\n\n\n \nPrice money hlavní závod:\n\nLachtan 
 Gaston umělecké dílo a věcné ceny\n\n\n \nParkování:\n\nÚstí nad Labem park
 oviště u restaurace Labská Bašta a Děčín auto camp pod mostem\n\n\n \nPravi
 dla závodu:\n\nDle pravidel Triade Děčín o.s.\n Důležité:\n\nÚčastnit se mo
 hou starší 18. let na vlastní nebezpečí\n\n\n \nZhodnocení:\n\nJurta v kemp
 u pod novým mostem ( cca 300m od cíle )\n\n\n \nZakladatel akce: Tomáš Česn
 ek 2008
CONTACT:Tomáš Česnek tomas.cesnek@scvk.cz
X-EXTRAINFO:\nhttps://www.decinsportfest.cz/gaston/propozice/
DTSTAMP:20260424T232520Z
DTSTART:20240817T090000Z
DTEND:20240817T150000Z
SEQUENCE:0
RRULE:FREQ=YEARLY;UNTIL=20240818T000000Z;INTERVAL=1;BYYEARDAY=-137
TRANSP:OPAQUE
END:VEVENT
END:VCALENDAR