BEGIN:VCALENDAR
VERSION:2.0
PRODID:-//jEvents 2.0 for Joomla//EN
CALSCALE:GREGORIAN
METHOD:PUBLISH
BEGIN:VEVENT
UID:02e5d59a9e1459f0f09a35a24176f87f
CATEGORIES:Stolní tenis
CREATED:20250929T233902
SUMMARY:Stolní tenis - 2. liga ženy
LOCATION:Hala SKST Děčín, ulice Práce 1824/19A
DESCRIPTION;ENCODING=QUOTED-PRINTABLE:\n\nUtkání 2. ligy žen SKST Děčín B - TJ Sokol Malín\n
DTSTAMP:20260425T114315Z
DTSTART:20260124T090000Z
DTEND:20260124T110000Z
SEQUENCE:0
TRANSP:OPAQUE
END:VEVENT
END:VCALENDAR