BEGIN:VCALENDAR
VERSION:2.0
PRODID:-//jEvents 2.0 for Joomla//EN
CALSCALE:GREGORIAN
METHOD:PUBLISH
BEGIN:VEVENT
UID:14cdf65aeed6778d5e670da12e0cb863
CATEGORIES:Stolní tenis
CREATED:20250929T234038
SUMMARY:Stolní tenis - 2. liga ženy
LOCATION:Hala SKST Děčín, ulice Práce 1824/19A
DESCRIPTION;ENCODING=QUOTED-PRINTABLE:\n\nUtkání 2. ligy žen SKST Děčín B - TTC Brandýs nad Labem\n
DTSTAMP:20260425T222037Z
DTSTART:20260124T130000Z
DTEND:20260124T150000Z
SEQUENCE:0
TRANSP:OPAQUE
END:VEVENT
END:VCALENDAR