BEGIN:VCALENDAR
VERSION:2.0
PRODID:-//jEvents 2.0 for Joomla//EN
CALSCALE:GREGORIAN
METHOD:PUBLISH
BEGIN:VEVENT
UID:3bc166a0e03385b7a19a2cfd904e80a3
CATEGORIES:Stolní tenis
CREATED:20250929T234253
SUMMARY:Stolní tenis - 2. liga žen
LOCATION:Hala SKST Děčín, ulice Práce 1824/19A
DESCRIPTION;ENCODING=QUOTED-PRINTABLE:\n\nUtkání 2. ligy žen SKST Děčín B - TJ Sokol Jaroměř - Josefov 2 A\n
DTSTAMP:20260425T110719Z
DTSTART:20260221T090000Z
DTEND:20260221T110000Z
SEQUENCE:0
TRANSP:OPAQUE
END:VEVENT
END:VCALENDAR