BEGIN:VCALENDAR
VERSION:2.0
PRODID:-//jEvents 2.0 for Joomla//EN
CALSCALE:GREGORIAN
METHOD:PUBLISH
BEGIN:VEVENT
UID:7fc2b75899dea54aa116ac58f1a8dcce
CATEGORIES:Stolní tenis
CREATED:20250930T000256
SUMMARY:Stolní tenis - Divize muži
LOCATION:Hala SKST Děčín, ulice Práce 1824/19A
DESCRIPTION;ENCODING=QUOTED-PRINTABLE:\n\nUtkání divize mužů SKST Děčín A - KST Krupka C\n
DTSTAMP:20260425T105625Z
DTSTART:20260201T090000Z
DTEND:20260201T120000Z
SEQUENCE:0
TRANSP:OPAQUE
END:VEVENT
END:VCALENDAR