BEGIN:VCALENDAR
VERSION:2.0
PRODID:-//jEvents 2.0 for Joomla//EN
CALSCALE:GREGORIAN
METHOD:PUBLISH
BEGIN:VEVENT
UID:77aebbef7ccec9d40e68d525ac48e494
CATEGORIES:Vodní motorismus
CREATED:20260318T081437
SUMMARY:1. kolo MČR Formula Future - slalom
LOCATION: Děčín, zimní přístav Rozbělesy, ul. Vodní
DESCRIPTION;ENCODING=QUOTED-PRINTABLE:<p>Zveme Vás na 1. kolo MČR Formula Future v manevringu. Akci pořádá KVM Dě
 čín pod záštitou ČSVM.</p><p>Akce je podpořena Statutárním městem Děčín.</p
 >
CONTACT:Tato e-mailová adresa je chráněna před spamboty. Pro její zobrazení musíte mít povolen Javascript.
				document.getElementById('cloak9047caafaac2b311ce53678d9b6d8571').innerHTML = '';
				var prefix = '&#109;a' + 'i&#108;' + '&#116;o';
				var path = 'hr' + 'ef' + '=';
				var addy9047caafaac2b311ce53678d9b6d8571 = 'kvmd&#101;c&#105;n' + '&#64;';
				addy9047caafaac2b311ce53678d9b6d8571 = addy9047caafaac2b311ce53678d9b6d8571 + 's&#101;zn&#97;m' + '&#46;' + 'cz';
				var addy_text9047caafaac2b311ce53678d9b6d8571 = 'kvmd&#101;c&#105;n' + '&#64;' + 's&#101;zn&#97;m' + '&#46;' + 'cz';document.getElementById('cloak9047caafaac2b311ce53678d9b6d8571').innerHTML += ''+addy_text9047caafaac2b311ce53678d9b6d8571+'';
		, +420 724 636 356
DTSTAMP:20260425T010122Z
DTSTART:20260425T070000Z
DTEND:20260425T130000Z
SEQUENCE:0
TRANSP:OPAQUE
END:VEVENT
END:VCALENDAR