BEGIN:VCALENDAR
VERSION:2.0
PRODID:-//jEvents 2.0 for Joomla//EN
CALSCALE:GREGORIAN
METHOD:PUBLISH
BEGIN:VEVENT
UID:50d63a22d8e6017de3c66a4cd5faffae
CATEGORIES:Orientační sport
CREATED:20260413T194934
SUMMARY:Závod v orientačním běhu na střední trati
LOCATION:Letiště Bynovec
DESCRIPTION;ENCODING=QUOTED-PRINTABLE:<p>Přijďte si zkusit orienťák, rodinný sport pro všechny od 0 do 100 let v 
 přírodě. Ověříte si svou fyzičku a zapojíte přitom i hlavu.</p><p>Pro absol
 vování závodu je potřeba pouze buzola, vhodné obutí a oblečení pro pohyb v 
 terénu (doporučeno je zakrytí dolních končetin) a speciální čip (ten vám sa
 mozřejmě zapůjčíme).</p><p>Trať je možno pojmout i jako rodinnou procházku 
 přírodou Českého Švýcarska zpestřenou o hledání kontrolních bodů.</p><p>Při
 praveny jsou tratě pro zkušené profíky i úplné začátečníky včetně malých dě
 tí.</p><p>Pokud jste orienťákem nepolíbeni nevadí, základní informace najde
 te na webu <a href="https://zacitorientak.cz/" target="_blank" rel="noopene
 r noreferrer">zacitorientak.cz</a>.</p><p>Přihlášky a další informace o záv
 odě naleznete na stránce závodu v orienťáckém informačním systému <a href="
 https://oris.ceskyorientak.cz/Zavod?id=9930" target="_blank" rel="noopener 
 noreferrer">ORIS</a>, kde si můžete přečíst takzvaný <a href="https://oris.
 ceskyorientak.cz/Priloha?id=9930&amp;doc=Rozpis" target="_blank" rel="noope
 ner noreferrer">Rozpis</a> (propozice závodu) a přibližně 2 dny před závode
 m zde najdete i startovní listinu a podrobnější Pokyny.</p><p></p><p>Jsme k
 omunita pohodových přátel pohybu v přírodě a rádi vás, v případě že vás náš
  sport zaujme, přivítáme mezi námi.</p><p></p>
CONTACT:Tato e-mailová adresa je chráněna před spamboty. Pro její zobrazení musíte mít povolen Javascript.
				document.getElementById('cloak66a4ebb3cde6bac8a7cbb0228b6be52f').innerHTML = '';
				var prefix = '&#109;a' + 'i&#108;' + '&#116;o';
				var path = 'hr' + 'ef' + '=';
				var addy66a4ebb3cde6bac8a7cbb0228b6be52f = '&#105;nf&#111;' + '&#64;';
				addy66a4ebb3cde6bac8a7cbb0228b6be52f = addy66a4ebb3cde6bac8a7cbb0228b6be52f + 'k&#111;bd&#101;c&#105;n' + '&#46;' + 'cz';
				var addy_text66a4ebb3cde6bac8a7cbb0228b6be52f = '&#105;nf&#111;' + '&#64;' + 'k&#111;bd&#101;c&#105;n' + '&#46;' + 'cz';document.getElementById('cloak66a4ebb3cde6bac8a7cbb0228b6be52f').innerHTML += ''+addy_text66a4ebb3cde6bac8a7cbb0228b6be52f+'';
		
X-EXTRAINFO:https://oris.ceskyorientak.cz/Zavod?id=9930
DTSTAMP:20260425T010123Z
DTSTART:20260426T083000Z
DTEND:20260426T150000Z
SEQUENCE:0
TRANSP:OPAQUE
END:VEVENT
END:VCALENDAR