BEGIN:VCALENDAR
VERSION:2.0
PRODID:-//jEvents 2.0 for Joomla//EN
CALSCALE:GREGORIAN
METHOD:PUBLISH
BEGIN:VEVENT
UID:d19290a57a8eea11651b1fb41f53eed9
CATEGORIES:Atletika
CREATED:20260416T110440
SUMMARY:Mistrovství ústeckého kraje v chůzi a steeplu
LOCATION:Atletický stadion za Hl. vlak. nádražím v Děčíně ASK
DESCRIPTION;ENCODING=QUOTED-PRINTABLE:<p>Žijeme atletikou, žijte s námi! Dne 1. května 2026 se koná Mistrovství ú
 steckého kraje v chůzi a steeplu.</p>
CONTACT:702 873 951
DTSTAMP:20260425T010122Z
DTSTART:20260501T060000Z
DTEND:20260501T150000Z
SEQUENCE:0
TRANSP:OPAQUE
END:VEVENT
END:VCALENDAR