BEGIN:VCALENDAR
VERSION:2.0
PRODID:-//jEvents 2.0 for Joomla//EN
CALSCALE:GREGORIAN
METHOD:PUBLISH
BEGIN:VEVENT
UID:04216acc98ad7b5ca2df0a933cf5d2fc
CATEGORIES:Triatlon
CREATED:20200113T170144
SUMMARY:Silvestrovské cachtání  -  „Poslední cachtání v roce“
LOCATION:Děčín Labské nábřeží
DESCRIPTION;ENCODING=QUOTED-PRINTABLE:Termín konání:31.12.Místo akce:Děčín – Labské nábřeží Start:15.00KonceptAkc
 e otužilcůStartovné:ZDARMAŘeditel závodu:Tomáš Česnek  Tato e-mailová adres
 a je chráněna před spamboty. Pro její zobrazení musíte mít povolen Javascri
 pt.
				document.getElementById('cloak964a24eaf8d29f1e07e4b5d22312df1f').in
 nerHTML = '';
				var prefix = '&#109;a' + 'i&#108;' + '&#116;o';
				var p
 ath = 'hr' + 'ef' + '=';
				var addy964a24eaf8d29f1e07e4b5d22312df1f = 'c&
 #101;sn&#101;k' + '&#64;';
				addy964a24eaf8d29f1e07e4b5d22312df1f = addy9
 64a24eaf8d29f1e07e4b5d22312df1f + '&#101;m&#97;&#105;l' + '&#46;' + 'cz';
	
 			var addy_text964a24eaf8d29f1e07e4b5d22312df1f = 'c&#101;sn&#101;k' + '&#
 64;' + '&#101;m&#97;&#105;l' + '&#46;' + 'cz';document.getElementById('cloa
 k964a24eaf8d29f1e07e4b5d22312df1f').innerHTML += ''+addy_text964a24eaf8d29f
 1e07e4b5d22312df1f+'';
		\n\n \nČasový harmonogram závodu:\n\nPrezentace 14
 .45 – 15.00 hod.\n \nKategorie:\n\nMuži\n\n\nŽeny\n\n\nDěti\n Startovné:\n\
 n ZDARMA\n Distance:\n\nDle pocitu, chuťi a možností\n\n\n \nPrice Money:\n
 \nObdiv diváků\n Parkování:\n\nDěčín Labské nábřeží\n Pravidla závodu:\n\nD
 le pravidel Triade Děčín\n\n\n \n
CONTACT:Tomáš Česnek  Tato e-mailová adresa je chráněna před spamboty. Pro její zobrazení musíte mít povolen Javascript.
				document.getElementById('cloakfdb564d60a7805bf28ee225662ef8e05').innerHTML = '';
				var prefix = '&#109;a' + 'i&#108;' + '&#116;o';
				var path = 'hr' + 'ef' + '=';
				var addyfdb564d60a7805bf28ee225662ef8e05 = 'c&#101;sn&#101;k' + '&#64;';
				addyfdb564d60a7805bf28ee225662ef8e05 = addyfdb564d60a7805bf28ee225662ef8e05 + '&#101;m&#97;&#105;l' + '&#46;' + 'cz';
				var addy_textfdb564d60a7805bf28ee225662ef8e05 = 'c&#101;sn&#101;k' + '&#64;' + '&#101;m&#97;&#105;l' + '&#46;' + 'cz';document.getElementById('cloakfdb564d60a7805bf28ee225662ef8e05').innerHTML += ''+addy_textfdb564d60a7805bf28ee225662ef8e05+'';
		
DTSTAMP:20260425T153123Z
DTSTART:20231231T133000Z
DTEND:20231231T150000Z
SEQUENCE:0
TRANSP:OPAQUE
END:VEVENT
END:VCALENDAR