BEGIN:VCALENDAR
VERSION:2.0
PRODID:-//jEvents 2.0 for Joomla//EN
CALSCALE:GREGORIAN
METHOD:PUBLISH
BEGIN:VEVENT
UID:04216acc98ad7b5ca2df0a933cf5d2fc
CATEGORIES:Triatlon
CREATED:20200113T170144
SUMMARY:Silvestrovské cachtání  -  „Poslední cachtání v roce“
LOCATION:Děčín Labské nábřeží
DESCRIPTION;ENCODING=QUOTED-PRINTABLE:Termín konání:31.12.Místo akce:Děčín – Labské nábřeží Start:15.00KonceptAkc
 e otužilcůStartovné:ZDARMAŘeditel závodu:Tomáš Česnek  Tato e-mailová adres
 a je chráněna před spamboty. Pro její zobrazení musíte mít povolen Javascri
 pt.
				document.getElementById('cloak24124d0cdf10929b435d0349b3a8847a').in
 nerHTML = '';
				var prefix = '&#109;a' + 'i&#108;' + '&#116;o';
				var p
 ath = 'hr' + 'ef' + '=';
				var addy24124d0cdf10929b435d0349b3a8847a = 'c&
 #101;sn&#101;k' + '&#64;';
				addy24124d0cdf10929b435d0349b3a8847a = addy2
 4124d0cdf10929b435d0349b3a8847a + '&#101;m&#97;&#105;l' + '&#46;' + 'cz';
	
 			var addy_text24124d0cdf10929b435d0349b3a8847a = 'c&#101;sn&#101;k' + '&#
 64;' + '&#101;m&#97;&#105;l' + '&#46;' + 'cz';document.getElementById('cloa
 k24124d0cdf10929b435d0349b3a8847a').innerHTML += ''+addy_text24124d0cdf1092
 9b435d0349b3a8847a+'';
		\n\n \nČasový harmonogram závodu:\n\nPrezentace 14
 .45 – 15.00 hod.\n \nKategorie:\n\nMuži\n\n\nŽeny\n\n\nDěti\n Startovné:\n\
 n ZDARMA\n Distance:\n\nDle pocitu, chuťi a možností\n\n\n \nPrice Money:\n
 \nObdiv diváků\n Parkování:\n\nDěčín Labské nábřeží\n Pravidla závodu:\n\nD
 le pravidel Triade Děčín\n\n\n \n
CONTACT:Tomáš Česnek  Tato e-mailová adresa je chráněna před spamboty. Pro její zobrazení musíte mít povolen Javascript.
				document.getElementById('cloak16d6663692688b8a851c76cce96a0396').innerHTML = '';
				var prefix = '&#109;a' + 'i&#108;' + '&#116;o';
				var path = 'hr' + 'ef' + '=';
				var addy16d6663692688b8a851c76cce96a0396 = 'c&#101;sn&#101;k' + '&#64;';
				addy16d6663692688b8a851c76cce96a0396 = addy16d6663692688b8a851c76cce96a0396 + '&#101;m&#97;&#105;l' + '&#46;' + 'cz';
				var addy_text16d6663692688b8a851c76cce96a0396 = 'c&#101;sn&#101;k' + '&#64;' + '&#101;m&#97;&#105;l' + '&#46;' + 'cz';document.getElementById('cloak16d6663692688b8a851c76cce96a0396').innerHTML += ''+addy_text16d6663692688b8a851c76cce96a0396+'';
		
DTSTAMP:20260425T121620Z
DTSTART:20251231T133000Z
DTEND:20251231T150000Z
SEQUENCE:0
TRANSP:OPAQUE
END:VEVENT
END:VCALENDAR