BEGIN:VCALENDAR
VERSION:2.0
PRODID:-//jEvents 2.0 for Joomla//EN
CALSCALE:GREGORIAN
METHOD:PUBLISH
BEGIN:VEVENT
UID:04216acc98ad7b5ca2df0a933cf5d2fc
CATEGORIES:Triatlon
CREATED:20200113T170144
SUMMARY:Silvestrovské cachtání  -  „Poslední cachtání v roce“
LOCATION:Děčín Labské nábřeží
DESCRIPTION;ENCODING=QUOTED-PRINTABLE:Termín konání:31.12.Místo akce:Děčín – Labské nábřeží Start:15.00KonceptAkc
 e otužilcůStartovné:ZDARMAŘeditel závodu:Tomáš Česnek  Tato e-mailová adres
 a je chráněna před spamboty. Pro její zobrazení musíte mít povolen Javascri
 pt.
				document.getElementById('cloak4eb2cf100ecf4e467b1c220fecea4716').in
 nerHTML = '';
				var prefix = '&#109;a' + 'i&#108;' + '&#116;o';
				var p
 ath = 'hr' + 'ef' + '=';
				var addy4eb2cf100ecf4e467b1c220fecea4716 = 'c&
 #101;sn&#101;k' + '&#64;';
				addy4eb2cf100ecf4e467b1c220fecea4716 = addy4
 eb2cf100ecf4e467b1c220fecea4716 + '&#101;m&#97;&#105;l' + '&#46;' + 'cz';
	
 			var addy_text4eb2cf100ecf4e467b1c220fecea4716 = 'c&#101;sn&#101;k' + '&#
 64;' + '&#101;m&#97;&#105;l' + '&#46;' + 'cz';document.getElementById('cloa
 k4eb2cf100ecf4e467b1c220fecea4716').innerHTML += ''+addy_text4eb2cf100ecf4e
 467b1c220fecea4716+'';
		\n\n \nČasový harmonogram závodu:\n\nPrezentace 14
 .45 – 15.00 hod.\n \nKategorie:\n\nMuži\n\n\nŽeny\n\n\nDěti\n Startovné:\n\
 n ZDARMA\n Distance:\n\nDle pocitu, chuťi a možností\n\n\n \nPrice Money:\n
 \nObdiv diváků\n Parkování:\n\nDěčín Labské nábřeží\n Pravidla závodu:\n\nD
 le pravidel Triade Děčín\n\n\n \n
CONTACT:Tomáš Česnek  Tato e-mailová adresa je chráněna před spamboty. Pro její zobrazení musíte mít povolen Javascript.
				document.getElementById('cloak9f47c2bae4c1683a70601d1257d12c9b').innerHTML = '';
				var prefix = '&#109;a' + 'i&#108;' + '&#116;o';
				var path = 'hr' + 'ef' + '=';
				var addy9f47c2bae4c1683a70601d1257d12c9b = 'c&#101;sn&#101;k' + '&#64;';
				addy9f47c2bae4c1683a70601d1257d12c9b = addy9f47c2bae4c1683a70601d1257d12c9b + '&#101;m&#97;&#105;l' + '&#46;' + 'cz';
				var addy_text9f47c2bae4c1683a70601d1257d12c9b = 'c&#101;sn&#101;k' + '&#64;' + '&#101;m&#97;&#105;l' + '&#46;' + 'cz';document.getElementById('cloak9f47c2bae4c1683a70601d1257d12c9b').innerHTML += ''+addy_text9f47c2bae4c1683a70601d1257d12c9b+'';
		
DTSTAMP:20260425T114419Z
DTSTART:20261231T133000Z
DTEND:20261231T150000Z
SEQUENCE:0
TRANSP:OPAQUE
END:VEVENT
END:VCALENDAR