BEGIN:VCALENDAR
VERSION:2.0
PRODID:-//jEvents 2.0 for Joomla//EN
CALSCALE:GREGORIAN
METHOD:PUBLISH
BEGIN:VEVENT
UID:12f388fb00f259b5df5fe8db79b6b4db
CATEGORIES:Běh
CREATED:20191227T170908
SUMMARY:Mikulášovický triatlon 
LOCATION:Mikulášovice - zatopený lom
DESCRIPTION;ENCODING=QUOTED-PRINTABLE:Mikulášovický triatlon "Triatlon na ostří nože"\n\n \nTermín konání:25.6.20
 22Místo akce:Mikulášovice - zatopený lomStart:11.00KonceptTerénní triathlon
  – MTB koloStartovné:150 Kč, resp. 200 kč na místě, JUNIOŘI ZDARMAŘeditel z
 ávodu:Tomáš Česnek Tato e-mailová adresa je chráněna před spamboty. Pro jej
 í zobrazení musíte mít povolen Javascript.
				document.getElementById('clo
 akc47f39a6030ba8176b4c760c08cbbb1b').innerHTML = '';
				var prefix = '&#10
 9;a' + 'i&#108;' + '&#116;o';
				var path = 'hr' + 'ef' + '=';
				var add
 yc47f39a6030ba8176b4c760c08cbbb1b = 't&#111;m&#97;s.c&#101;sn&#101;k' + '&#
 64;';
				addyc47f39a6030ba8176b4c760c08cbbb1b = addyc47f39a6030ba8176b4c76
 0c08cbbb1b + 'scvk' + '&#46;' + 'cz';
				var addy_textc47f39a6030ba8176b4c
 760c08cbbb1b = 't&#111;m&#97;s.c&#101;sn&#101;k' + '&#64;' + 'scvk' + '&#46
 ;' + 'cz';document.getElementById('cloakc47f39a6030ba8176b4c760c08cbbb1b').
 innerHTML += ''+addy_textc47f39a6030ba8176b4c760c08cbbb1b+'';
		\n\n \nČaso
 vý harmonogram závodu:                                                     
   \n\nPrezentace 10.00 – 10.45 hod.\nVyhlášení výsledků cca 14.00 hod      
                                                              \n\n\n \nKateg
 orie:\n\nMuži\n\n\nŽeny\n\n\nJunioři\n Startovné:\n\n150 Kč – na účet 26002
 34221/2010  Fio banka  do 15.6.  poté 200 kč na místě, JUNIOŘI ZDARMA\nPOČE
 T ÚČASTNÍKU OMEZEN NA 60 \n\n \nDistance:\n\nPlavání:  300 m (neopren povol
 en)\n\n\nKolo: 15 km horské kolo\n\n\nBěh: 5 km \n\n\n \nPrice Money:\n\nPr
 o jednoho NEJLEPŠÍHO… NEJRYCHLEJŠÍHO… A NEJVĚTŠÍHO…  PŘEKVAPENÍ…\n Parkován
 í:\n\nU lomu  GPS 5O, 58', 32" N ,  14, 22', 11" E\n Pravidla závodu:\n\nDl
 e pravidel Triatlonu\nVstup do prostoru závodu se psi je přísně zakázán! \n
 \n \nZakladatel akce: Tomáš Česnek 2014
CONTACT:http://www.decinsportfest.cz
DTSTAMP:20260425T141625Z
DTSTART;VALUE=DATE:20260626
DTEND;VALUE=DATE:20260627
SEQUENCE:0
TRANSP:OPAQUE
END:VEVENT
END:VCALENDAR