BEGIN:VCALENDAR
VERSION:2.0
PRODID:-//jEvents 2.0 for Joomla//EN
CALSCALE:GREGORIAN
METHOD:PUBLISH
BEGIN:VEVENT
UID:38d3ea733593cc98c8e27beacd7b2e16
CATEGORIES:Běh
CREATED:20200103T105234
SUMMARY:Duatlon pro děti
LOCATION:Děčín – Zámecký park-Mariánská louka
DESCRIPTION;ENCODING=QUOTED-PRINTABLE:"Závod budoucích hvězd"\n\n \nTermín konání:\n\n17.5.2022  - Slavata tour a
  \n\n\n7.9.2022\nMísto akce:Děčín – Zámecký park(Mariánská louka) - Labské 
 Nábřeží – Severní ČechyStart:Dětský závod cca 16.00 hod. dle kategorii, vyh
 lášení výsledků 18.30 hod.Koncept:Klasický terénní duatlon = běh - kolo - b
 ěhStartovné:DOBROVOLNÉ 50 Kč,- půjde na dobročinné účelyŘeditel závodu:Mare
 k Peterka\n\n \nČasový harmonogram závodu a kategorie:\n\nPrezentace: 15.00
  – 17.00 hod. dle kategorií, vždy min.30 minut před startem\n\n\nKategorie 
 budou rozdělení dle věku, nikoliv dle ročníku. \n\n\n15.50 - Děti do 3 let 
 (odrážedla)                                                  speciální trať
  \n\n\n16.00 - Děti do 4 let                                               
                         1 kolo; 1 kolo (K;B)\n\n\n16.10 - Děti 5 – 6 let   
                                                                    1 kolo; 
 1 kolo (K;B)\n\n\n16.20 - Chlapci a dívky  7 – 8 let                       
                          1 kolo; 1 kolo; 1 kolo (B;K;B)\n\n\n16.40 - Chlapc
 i a dívky  9 – 10 let                                             1 kolo; 2
  kola; 1 kolo (B;K;B)\n\n\n \n\n\n17.00 – Vyhlášení výše uvedených kategori
 í\n\n\n \n\n\n17.35 - Chlapci a dívky  11 – 12 let                         
                     1 kola; 2 kola; 1 kolo (B;K;B)\n\n\n18.00 - Chlapci a d
 ívky  13 – 15 let                                           2 kola; 3 kola;
  1 kolo (B;K;B)\n\n\n \n\n\n18.30 – Vyhlášení výše uvedených kategorií\n\n\
 n \n\n\nČasový plán může být mírně upraven!\n\n\n \nStartovné:       \n\n 5
 0 Kč,- půjde na dobročinné účely, platba na místě\n\n\nMOŽNOST ZAPŮJČENÍ KO
 LA ZDARMA\n Distance:\n\nBěh - V okolí Děčínského zámku a Zámeckého parku. 
 Zvlněný profil trati.\n\n\nMTB - Polní a lesní cesty Zámeckého parku\n\n\nD
 istance dle věkových kategorií.\n Price money:\n\nvěcné ceny\n Parkování:\n
 \nParkoviště vedle zámeckého rybníku a Labské Nábřeží (před Atlantikem)\n\n
 \n \nPravidla závodu:\n\nDle pravidel duatlonu.\n\n\n \nZakladatelé akce: M
 arek Peterka a Jaroslav Hauzírek 2010, Tomáš Slavata - Slavata tour
CONTACT:http://www.decinsportfest.cz.   http://konkordia-decin.cz
DTSTAMP:20260425T141640Z
DTSTART;VALUE=DATE:20260519
DTEND;VALUE=DATE:20260520
SEQUENCE:0
TRANSP:OPAQUE
END:VEVENT
END:VCALENDAR